BEGIN:VCALENDAR
VERSION:2.0
PRODID:-//Escuela Alemana - ECPv6.15.11//NONSGML v1.0//EN
CALSCALE:GREGORIAN
METHOD:PUBLISH
X-WR-CALNAME:Escuela Alemana
X-ORIGINAL-URL:https://ds.edu.sv/de
X-WR-CALDESC:Veranstaltungen für Escuela Alemana
REFRESH-INTERVAL;VALUE=DURATION:PT1H
X-Robots-Tag:noindex
X-PUBLISHED-TTL:PT1H
BEGIN:VTIMEZONE
TZID:America/Guatemala
BEGIN:STANDARD
TZOFFSETFROM:-0600
TZOFFSETTO:-0600
TZNAME:CST
DTSTART:20250101T000000
END:STANDARD
END:VTIMEZONE
BEGIN:VEVENT
DTSTART;VALUE=DATE:20260420
DTEND;VALUE=DATE:20260421
DTSTAMP:20260420T083735
CREATED:20250802T024937Z
LAST-MODIFIED:20260419T205709Z
UID:9147-1776643200-1776729599@ds.edu.sv
SUMMARY:Intercambio 9ºgrado ABC
DESCRIPTION:Responsables:\nOrientadora Vocacional\nParticipantes:\nAlumnos 9ºgrado ABC\nLugar:\nDistintos destinos en Alemania
URL:https://ds.edu.sv/de/event/intercambio-9ogrado-abc-31/
END:VEVENT
BEGIN:VEVENT
DTSTART;VALUE=DATE:20260420
DTEND;VALUE=DATE:20260421
DTSTAMP:20260420T083735
CREATED:20250804T031734Z
LAST-MODIFIED:20260419T205708Z
UID:9525-1776643200-1776729599@ds.edu.sv
SUMMARY:Semana 30 (WB)
DESCRIPTION:
URL:https://ds.edu.sv/de/event/semana-30-wb-12/
END:VEVENT
END:VCALENDAR