BEGIN:VCALENDAR
VERSION:2.0
PRODID:-//Escuela Alemana - ECPv6.15.11//NONSGML v1.0//EN
CALSCALE:GREGORIAN
METHOD:PUBLISH
X-ORIGINAL-URL:https://ds.edu.sv
X-WR-CALDESC:Eventos para Escuela Alemana
REFRESH-INTERVAL;VALUE=DURATION:PT1H
X-Robots-Tag:noindex
X-PUBLISHED-TTL:PT1H
BEGIN:VTIMEZONE
TZID:America/Guatemala
BEGIN:STANDARD
TZOFFSETFROM:-0600
TZOFFSETTO:-0600
TZNAME:CST
DTSTART:20240101T000000
END:STANDARD
END:VTIMEZONE
BEGIN:VEVENT
DTSTART;VALUE=DATE:20251201
DTEND;VALUE=DATE:20251202
DTSTAMP:20260420T164425
CREATED:20250720T015743Z
LAST-MODIFIED:20251201T035316Z
UID:8554-1764547200-1764633599@ds.edu.sv
SUMMARY:Semana 16 (WB)
DESCRIPTION:
URL:https://ds.edu.sv/event/semana-16-wb-10/
END:VEVENT
BEGIN:VEVENT
DTSTART;TZID=America/Guatemala:20251201T082000
DTEND;TZID=America/Guatemala:20251201T090500
DTSTAMP:20260420T164425
CREATED:20250720T015743Z
LAST-MODIFIED:20251201T035316Z
UID:8553-1764577200-1764579900@ds.edu.sv
SUMMARY:2. Advent 2ºgrado ABDC
DESCRIPTION:Responsables:\nDirectora y profesores Primaria\nParticipantes:\nPadres de familia \, alumnos y\nProfesores de 2ºgrado ABCD\nLugar:\nCancha Multiusos
URL:https://ds.edu.sv/event/2-advent-2ogrado-abdc/
END:VEVENT
BEGIN:VEVENT
DTSTART;VALUE=DATE:20251202
DTEND;VALUE=DATE:20251203
DTSTAMP:20260420T164425
CREATED:20250720T015744Z
LAST-MODIFIED:20251202T035324Z
UID:8556-1764633600-1764719999@ds.edu.sv
SUMMARY:Semana 16 (WB)
DESCRIPTION:
URL:https://ds.edu.sv/event/semana-16-wb-12/
END:VEVENT
BEGIN:VEVENT
DTSTART;TZID=America/Guatemala:20251202T111500
DTEND;TZID=America/Guatemala:20251202T124500
DTSTAMP:20260420T164425
CREATED:20250731T024642Z
LAST-MODIFIED:20251202T035323Z
UID:8757-1764674100-1764679500@ds.edu.sv
SUMMARY:Pilotprüfung SK DSD I T12026 (KA 2/Sem II) Después habrá clases normales
DESCRIPTION:Responsables:\nDaF-LK Klasse 9\nParticipantes:\nLK und SuS Klasse 9\nLugar:\nAulas de clases
URL:https://ds.edu.sv/event/pilotprufung-sk-dsd-i-t12026-ka-2-sem-ii-despues-habra-clases-normales/
END:VEVENT
BEGIN:VEVENT
DTSTART;VALUE=DATE:20251203
DTEND;VALUE=DATE:20251204
DTSTAMP:20260420T164425
CREATED:20250720T015743Z
LAST-MODIFIED:20251203T035328Z
UID:8555-1764720000-1764806399@ds.edu.sv
SUMMARY:Semana 16 (WB)
DESCRIPTION:
URL:https://ds.edu.sv/event/semana-16-wb-11/
END:VEVENT
BEGIN:VEVENT
DTSTART;VALUE=DATE:20251204
DTEND;VALUE=DATE:20251205
DTSTAMP:20260420T164425
CREATED:20250720T015745Z
LAST-MODIFIED:20251204T040906Z
UID:8558-1764806400-1764892799@ds.edu.sv
SUMMARY:Semana 16 (WB)
DESCRIPTION:
URL:https://ds.edu.sv/event/semana-16-wb-14/
END:VEVENT
BEGIN:VEVENT
DTSTART;VALUE=DATE:20251205
DTEND;VALUE=DATE:20251206
DTSTAMP:20260420T164425
CREATED:20250720T015745Z
LAST-MODIFIED:20251205T040823Z
UID:8557-1764892800-1764979199@ds.edu.sv
SUMMARY:Semana 16 (WB)
DESCRIPTION:
URL:https://ds.edu.sv/event/semana-16-wb-13/
END:VEVENT
BEGIN:VEVENT
DTSTART;TZID=America/Guatemala:20251205T071500
DTEND;TZID=America/Guatemala:20251205T150000
DTSTAMP:20260420T164425
CREATED:20250731T024643Z
LAST-MODIFIED:20251205T040823Z
UID:8758-1764918900-1764946800@ds.edu.sv
SUMMARY:Pruebas orales DSD II III Bach T1 2026 (Plan Especial)
DESCRIPTION:Responsables:\nCoordinador DaF\, Profesores de alemán\, …\nParticipantes:\nAlumnos III Bach ABC\nLugar:\nSalones de clases Edificio D\nAlumnos solo vienen a la prueba oral.\nNo tienen clases durante los días de las pruebas orales
URL:https://ds.edu.sv/event/pruebas-orales-dsd-ii-iii-bach-t1-2026-plan-especial-alumnos-tienen-libre-el-dia-de-su-prueba/
END:VEVENT
BEGIN:VEVENT
DTSTART;TZID=America/Guatemala:20251205T080000
DTEND;TZID=America/Guatemala:20251205T092500
DTSTAMP:20260420T164425
CREATED:20250720T015745Z
LAST-MODIFIED:20251205T040823Z
UID:8559-1764921600-1764926700@ds.edu.sv
SUMMARY:Visita Nikolaus Parvularia
DESCRIPTION:Responsables:\nDirectora Parvularia\nParticipantes:\nAlumnos y\nProfesores de Parvularia\nLugar:\nAulas Parvularia
URL:https://ds.edu.sv/event/visita-nikolaus-parvularia-2/
END:VEVENT
BEGIN:VEVENT
DTSTART;TZID=America/Guatemala:20251205T092500
DTEND;TZID=America/Guatemala:20251205T105500
DTSTAMP:20260420T164425
CREATED:20250720T015746Z
LAST-MODIFIED:20251205T040823Z
UID:8560-1764926700-1764932100@ds.edu.sv
SUMMARY:Visita Nikolaus Primaria (1º y 2º grado)
DESCRIPTION:Responsables:\nDirectora y profesores de Primaria\nParticipantes:\nAlumnos y\nProfesores de 1º y 2ºgrado ABCD\nLugar:\nAulas
URL:https://ds.edu.sv/event/visita-nikolaus-primaria-1o-y-2o-grado/
END:VEVENT
BEGIN:VEVENT
DTSTART;TZID=America/Guatemala:20251206T073000
DTEND;TZID=America/Guatemala:20251206T143000
DTSTAMP:20260420T164425
CREATED:20250720T015746Z
LAST-MODIFIED:20251206T040815Z
UID:8561-1765006200-1765031400@ds.edu.sv
SUMMARY:Primera entrega de regalos de navidad en una caja de zapatos
DESCRIPTION:Responsables:\nCoordinadora SEK I\nParticipantes:\nAlumnos y profesores interesados en participar\nLugar:\nVisita a una comunidad
URL:https://ds.edu.sv/event/primera-entrega-de-regalos-de-navidad-en-una-caja-de-zapatos/
END:VEVENT
BEGIN:VEVENT
DTSTART;TZID=America/Guatemala:20251206T160000
DTEND;TZID=America/Guatemala:20251206T190000
DTSTAMP:20260420T164425
CREATED:20250720T015746Z
LAST-MODIFIED:20251107T003925Z
UID:8562-1765036800-1765047600@ds.edu.sv
SUMMARY:Mercadillo Navideño (Tentativo)
DESCRIPTION:TENTATIVO. HORARIO POR DEFINIR
URL:https://ds.edu.sv/event/mercadillo-navideno-tentativo/
END:VEVENT
BEGIN:VEVENT
DTSTART;VALUE=DATE:20251208
DTEND;VALUE=DATE:20251209
DTSTAMP:20260420T164425
CREATED:20250720T015747Z
LAST-MODIFIED:20251208T043819Z
UID:8564-1765152000-1765238399@ds.edu.sv
SUMMARY:Semana 17 (WA)
DESCRIPTION:
URL:https://ds.edu.sv/event/semana-17-wa-12/
END:VEVENT
BEGIN:VEVENT
DTSTART;TZID=America/Guatemala:20251208T071500
DTEND;TZID=America/Guatemala:20251208T150000
DTSTAMP:20260420T164425
CREATED:20250923T195338Z
LAST-MODIFIED:20251208T043819Z
UID:10546-1765178100-1765206000@ds.edu.sv
SUMMARY:Pruebas orales DSD II III Bach T1 2026 (Plan Especial)
DESCRIPTION:Responsables:\nCoordinador DaF\, Profesores de alemán\, …\nParticipantes:\nAlumnos III Bach ABC\nLugar:\nSalones de clases Edificio D\nAlumnos solo vienen a la prueba oral.\nNo tienen clases durante los días de las pruebas orales
URL:https://ds.edu.sv/event/pruebas-orales-dsd-ii-iii-bach-t1-2026-plan-especial-alumnos-tienen-libre-el-dia-de-su-prueba-6/
END:VEVENT
BEGIN:VEVENT
DTSTART;TZID=America/Guatemala:20251208T082000
DTEND;TZID=America/Guatemala:20251208T090500
DTSTAMP:20260420T164425
CREATED:20250720T015747Z
LAST-MODIFIED:20251208T043819Z
UID:8565-1765182000-1765184700@ds.edu.sv
SUMMARY:3. Advent 3ºgrado ABCD
DESCRIPTION:Responsables:\nDirectora y profesores Primaria\nParticipantes:\nPadres de familia \, alumnos y\nProfesores de 3ºgrado ABCD\nLugar:\nCancha Multiusos
URL:https://ds.edu.sv/event/3-advent-3ogrado-abcd/
END:VEVENT
BEGIN:VEVENT
DTSTART;VALUE=DATE:20251209
DTEND;VALUE=DATE:20251210
DTSTAMP:20260420T164425
CREATED:20250720T015747Z
LAST-MODIFIED:20251209T045347Z
UID:8563-1765238400-1765324799@ds.edu.sv
SUMMARY:Semana 17 (WA)
DESCRIPTION:
URL:https://ds.edu.sv/event/semana-17-wa-11/
END:VEVENT
BEGIN:VEVENT
DTSTART;TZID=America/Guatemala:20251209T071500
DTEND;TZID=America/Guatemala:20251209T150000
DTSTAMP:20260420T164425
CREATED:20250731T024644Z
LAST-MODIFIED:20251209T045347Z
UID:8759-1765264500-1765292400@ds.edu.sv
SUMMARY:Pruebas orales DSD II III Bach T1 2026 (Plan Especial)
DESCRIPTION:Responsables:\nCoordinador DaF\, Profesores de alemán\, …\nParticipantes:\nAlumnos III Bach ABC\nLugar:\nSalones de clases Edificio D\nAlumnos solo vienen a la prueba oral.\nNo tienen clases durante los días de las pruebas orales
URL:https://ds.edu.sv/event/pruebas-orales-dsd-ii-iii-bach-t1-2026-plan-especial-alumnos-tienen-libre-el-dia-de-su-prueba-2/
END:VEVENT
BEGIN:VEVENT
DTSTART;TZID=America/Guatemala:20251209T170000
DTEND;TZID=America/Guatemala:20251209T200000
DTSTAMP:20260420T164425
CREATED:20250720T015748Z
LAST-MODIFIED:20251209T045347Z
UID:8566-1765299600-1765310400@ds.edu.sv
SUMMARY:Celebraciones navideñas Kindergarten
DESCRIPTION:Responsables:\nDirectora Parvularia\nParticipantes:\nPadres de familia \, alumnos y\nProfesores de Parvularia\nLugar:\nCancha Multiusos
URL:https://ds.edu.sv/event/celebraciones-navidenas-kindergarten/
END:VEVENT
BEGIN:VEVENT
DTSTART;VALUE=DATE:20251210
DTEND;VALUE=DATE:20251211
DTSTAMP:20260420T164425
CREATED:20250720T015748Z
LAST-MODIFIED:20251210T045335Z
UID:8568-1765324800-1765411199@ds.edu.sv
SUMMARY:Semana 17 (WA)
DESCRIPTION:
URL:https://ds.edu.sv/event/semana-17-wa-14/
END:VEVENT
BEGIN:VEVENT
DTSTART;VALUE=DATE:20251210
DTEND;VALUE=DATE:20251211
DTSTAMP:20260420T164425
CREATED:20250929T202401Z
LAST-MODIFIED:20251210T045335Z
UID:10558-1765324800-1765411199@ds.edu.sv
SUMMARY:Alumnos III Bach ABC tienen libre
DESCRIPTION:
URL:https://ds.edu.sv/event/alumnos-iii-bach-abc-tienen-libre/
END:VEVENT
BEGIN:VEVENT
DTSTART;TZID=America/Guatemala:20251210T071500
DTEND;TZID=America/Guatemala:20251210T150000
DTSTAMP:20260420T164425
CREATED:20250731T024644Z
LAST-MODIFIED:20250922T193902Z
UID:8760-1765350900-1765378800@ds.edu.sv
SUMMARY:Pruebas orales DSD II III Bach T1 2026 (Plan Especial) Alumnos tienen libre el dia de su prueba
DESCRIPTION:Responsables:\nCoordinador DaF\, Profesores de alemán\, …\nParticipantes:\nAlumnos III Bach ABC\nLugar:\nSalones de clases Edificio D
URL:https://ds.edu.sv/event/pruebas-orales-dsd-ii-iii-bach-t1-2026-plan-especial-alumnos-tienen-libre-el-dia-de-su-prueba-3/
END:VEVENT
BEGIN:VEVENT
DTSTART;TZID=America/Guatemala:20251210T170000
DTEND;TZID=America/Guatemala:20251210T200000
DTSTAMP:20260420T164425
CREATED:20250720T015749Z
LAST-MODIFIED:20251210T045335Z
UID:8569-1765386000-1765396800@ds.edu.sv
SUMMARY:Celebraciones navideñas Kindergarten
DESCRIPTION:Responsables:\nDirectora Parvularia\nParticipantes:\nPadres de familia \, alumnos y\nProfesores de Parvularia\nLugar:\nCancha Multiusos
URL:https://ds.edu.sv/event/celebraciones-navidenas-kindergarten-2/
END:VEVENT
BEGIN:VEVENT
DTSTART;VALUE=DATE:20251211
DTEND;VALUE=DATE:20251212
DTSTAMP:20260420T164425
CREATED:20250720T015748Z
LAST-MODIFIED:20251211T045451Z
UID:8567-1765411200-1765497599@ds.edu.sv
SUMMARY:Semana 17 (WA)
DESCRIPTION:
URL:https://ds.edu.sv/event/semana-17-wa-13/
END:VEVENT
BEGIN:VEVENT
DTSTART;TZID=America/Guatemala:20251211T070000
DTEND;TZID=America/Guatemala:20251211T124500
DTSTAMP:20260420T164425
CREATED:20250721T020111Z
LAST-MODIFIED:20251211T045450Z
UID:8642-1765436400-1765457100@ds.edu.sv
SUMMARY:Schriftliche Prüfung DSDII T12026. III Bach ABC (No tienen clases por la tarde)
DESCRIPTION:Responsables:\nDeutschlehrkräfte III Bach und DaF-Koordinator\nParticipantes:\nLK und SuS III Bach ABC\nLugar:\nAuditorio\n LOS ALUMNOS NO TIENEN CLASES POR LA TARDE
URL:https://ds.edu.sv/event/schriftliche-prufung-dsdii-t12026-iii-bach-abc-no-tienen-clases-por-la-tarde/
END:VEVENT
BEGIN:VEVENT
DTSTART;TZID=America/Guatemala:20251211T071500
DTEND;TZID=America/Guatemala:20251211T124500
DTSTAMP:20260420T164425
CREATED:20250731T024645Z
LAST-MODIFIED:20250928T202340Z
UID:8761-1765437300-1765457100@ds.edu.sv
SUMMARY:Nachschreiber DSD II
DESCRIPTION:Responsables:\nCoordinador DaF\, Profesores de alemán\nParticipantes:\nAlumnos III Bach ABC reposición\nLugar:\nSalón de música
URL:https://ds.edu.sv/event/nachschreiber-dsd-ii/
END:VEVENT
BEGIN:VEVENT
DTSTART;TZID=America/Guatemala:20251211T071500
DTEND;TZID=America/Guatemala:20251211T150000
DTSTAMP:20260420T164425
CREATED:20250731T024645Z
LAST-MODIFIED:20250922T193902Z
UID:8762-1765437300-1765465200@ds.edu.sv
SUMMARY:Pruebas orales DSD II III Bach T1 2026 (Plan Especial) Alumnos tienen libre el dia de su prueba
DESCRIPTION:Responsables:\nCoordinador DaF\, Profesores de alemán\, …\nParticipantes:\nAlumnos III Bach ABC\nLugar:\nSalones de clases Edificio D
URL:https://ds.edu.sv/event/pruebas-orales-dsd-ii-iii-bach-t1-2026-plan-especial-alumnos-tienen-libre-el-dia-de-su-prueba-4/
END:VEVENT
BEGIN:VEVENT
DTSTART;TZID=America/Guatemala:20251211T151500
DTEND;TZID=America/Guatemala:20251211T164500
DTSTAMP:20260420T164425
CREATED:20250720T015749Z
LAST-MODIFIED:20251211T045451Z
UID:8570-1765466100-1765471500@ds.edu.sv
SUMMARY:Día para exámenes de recuperación y reposición
DESCRIPTION:Responsables:\nStephan Prümm\, Profesores de la materia\nParticipantes:\nProfesores vigilantes y alumnos en proceso de recuperación\nLugar:\nAuditorio\nProfesores vigilantes:\nKNI   (Mario Knie)\nPST    (Stephan Prümm)\nVES  (Salvador Ventura)
URL:https://ds.edu.sv/event/dia-para-examenes-de-recuperacion-y-reposicion-18/
END:VEVENT
BEGIN:VEVENT
DTSTART;TZID=America/Guatemala:20251211T173000
DTEND;TZID=America/Guatemala:20251211T200000
DTSTAMP:20260420T164425
CREATED:20250720T015751Z
LAST-MODIFIED:20251211T045451Z
UID:8577-1765474200-1765483200@ds.edu.sv
SUMMARY:Entrega de resultados ingreso a Parvularia
DESCRIPTION:Responsables:\nAdministración\nParticipantes:\nDirector\, Junta Directiva y Admnistración\nLugar:\nSala de Juntas
URL:https://ds.edu.sv/event/entrega-de-resultados-ingreso-a-parvularia-2/
END:VEVENT
BEGIN:VEVENT
DTSTART;VALUE=DATE:20251212
DTEND;VALUE=DATE:20251213
DTSTAMP:20260420T164425
CREATED:20250720T015751Z
LAST-MODIFIED:20251212T045533Z
UID:8576-1765497600-1765583999@ds.edu.sv
SUMMARY:Último día para ingreso de notas
DESCRIPTION:Responsables:\nTodos los profesores\nParticipantes:\nTodos los profesores\nLugar:\nSistema SIGA de notas
URL:https://ds.edu.sv/event/ultimo-dia-para-ingreso-de-notas/
END:VEVENT
BEGIN:VEVENT
DTSTART;VALUE=DATE:20251212
DTEND;VALUE=DATE:20251213
DTSTAMP:20260420T164425
CREATED:20250720T015751Z
LAST-MODIFIED:20251212T045533Z
UID:8578-1765497600-1765583999@ds.edu.sv
SUMMARY:Semana 17 (WA)
DESCRIPTION:
URL:https://ds.edu.sv/event/semana-17-wa-15/
END:VEVENT
END:VCALENDAR