BEGIN:VCALENDAR
VERSION:2.0
PRODID:-//Escuela Alemana - ECPv6.15.11//NONSGML v1.0//EN
CALSCALE:GREGORIAN
METHOD:PUBLISH
X-ORIGINAL-URL:https://ds.edu.sv
X-WR-CALDESC:Eventos para Escuela Alemana
REFRESH-INTERVAL;VALUE=DURATION:PT1H
X-Robots-Tag:noindex
X-PUBLISHED-TTL:PT1H
BEGIN:VTIMEZONE
TZID:America/Guatemala
BEGIN:STANDARD
TZOFFSETFROM:-0600
TZOFFSETTO:-0600
TZNAME:CST
DTSTART:20250101T000000
END:STANDARD
END:VTIMEZONE
BEGIN:VEVENT
DTSTART;VALUE=DATE:20260202
DTEND;VALUE=DATE:20260203
DTSTAMP:20260420T134207
CREATED:20250801T024743Z
LAST-MODIFIED:20260202T101211Z
UID:8872-1769990400-1770076799@ds.edu.sv
SUMMARY:Semana 21 (WA)
DESCRIPTION:
URL:https://ds.edu.sv/event/semana-21-wa-12/
END:VEVENT
BEGIN:VEVENT
DTSTART;VALUE=DATE:20260202
DTEND;VALUE=DATE:20260203
DTSTAMP:20260420T134207
CREATED:20250801T024744Z
LAST-MODIFIED:20260202T101158Z
UID:8873-1769990400-1770076799@ds.edu.sv
SUMMARY:Proceso de solicitudes de becas sociales
DESCRIPTION:Responsables:\nAdministración\nParticipantes:\nPadres de familia solicitantes\nLugar:\n—
URL:https://ds.edu.sv/event/proceso-de-solicitudes-de-becas-sociales-28/
END:VEVENT
BEGIN:VEVENT
DTSTART;VALUE=DATE:20260203
DTEND;VALUE=DATE:20260204
DTSTAMP:20260420T134207
CREATED:20250801T024743Z
LAST-MODIFIED:20260203T101204Z
UID:8867-1770076800-1770163199@ds.edu.sv
SUMMARY:Semana 21 (WA)
DESCRIPTION:
URL:https://ds.edu.sv/event/semana-21-wa-11/
END:VEVENT
BEGIN:VEVENT
DTSTART;VALUE=DATE:20260203
DTEND;VALUE=DATE:20260204
DTSTAMP:20260420T134207
CREATED:20250801T024743Z
LAST-MODIFIED:20260203T101203Z
UID:8869-1770076800-1770163199@ds.edu.sv
SUMMARY:Proceso de solicitudes de becas sociales
DESCRIPTION:Responsables:\nAdministración\nParticipantes:\nPadres de familia solicitantes\nLugar:\n—
URL:https://ds.edu.sv/event/proceso-de-solicitudes-de-becas-sociales-27/
END:VEVENT
BEGIN:VEVENT
DTSTART;TZID=America/Guatemala:20260203T073500
DTEND;TZID=America/Guatemala:20260203T124500
DTSTAMP:20260420T134207
CREATED:20250801T024745Z
LAST-MODIFIED:20260203T101203Z
UID:8875-1770104100-1770122700@ds.edu.sv
SUMMARY:Tomo de fotografías para documentos oficiales III Bach ABC
DESCRIPTION:Responsables:\nDirectora Nacional\nRegistro Académico\nParticipantes:\nAlumnos III Bach ABC\nLugar:\nAuditorio
URL:https://ds.edu.sv/event/tomo-de-fotografias-para-documentos-oficiales-iii-bach-abc/
END:VEVENT
BEGIN:VEVENT
DTSTART;TZID=America/Guatemala:20260203T183000
DTEND;TZID=America/Guatemala:20260203T200000
DTSTAMP:20260420T134207
CREATED:20250801T024746Z
LAST-MODIFIED:20260203T101215Z
UID:8880-1770143400-1770148800@ds.edu.sv
SUMMARY:Reunión Padres de Familia III Bach BC. Preparación de exámenes GIB
DESCRIPTION:Responsables:\nCoordinadora SEK II+GIB\nOrientadora Vocacional\nPsicóloga\nParticipantes:\nPadres de familia y alumnos III Bach BC\nLugar:\nAuditorio
URL:https://ds.edu.sv/event/reunion-padres-de-familia-iii-bach-bc-preparacion-de-examenes-gib/
END:VEVENT
BEGIN:VEVENT
DTSTART;VALUE=DATE:20260204
DTEND;VALUE=DATE:20260205
DTSTAMP:20260420T134207
CREATED:20250801T024746Z
LAST-MODIFIED:20260204T101203Z
UID:8878-1770163200-1770249599@ds.edu.sv
SUMMARY:Semana 21 (WA)
DESCRIPTION:
URL:https://ds.edu.sv/event/semana-21-wa-14/
END:VEVENT
BEGIN:VEVENT
DTSTART;VALUE=DATE:20260204
DTEND;VALUE=DATE:20260205
DTSTAMP:20260420T134207
CREATED:20250801T024746Z
LAST-MODIFIED:20260204T101203Z
UID:8879-1770163200-1770249599@ds.edu.sv
SUMMARY:Proceso de solicitudes de becas sociales
DESCRIPTION:Responsables:\nAdministración\nParticipantes:\nPadres de familia solicitantes\nLugar:\n—
URL:https://ds.edu.sv/event/proceso-de-solicitudes-de-becas-sociales-29/
END:VEVENT
BEGIN:VEVENT
DTSTART;VALUE=DATE:20260205
DTEND;VALUE=DATE:20260206
DTSTAMP:20260420T134207
CREATED:20250801T024745Z
LAST-MODIFIED:20260205T101230Z
UID:8877-1770249600-1770335999@ds.edu.sv
SUMMARY:Semana 21 (WA)
DESCRIPTION:
URL:https://ds.edu.sv/event/semana-21-wa-13/
END:VEVENT
BEGIN:VEVENT
DTSTART;VALUE=DATE:20260205
DTEND;VALUE=DATE:20260206
DTSTAMP:20260420T134207
CREATED:20250801T024747Z
LAST-MODIFIED:20260205T101229Z
UID:8884-1770249600-1770335999@ds.edu.sv
SUMMARY:Proceso de solicitudes de becas sociales
DESCRIPTION:Responsables:\nAdministración\nParticipantes:\nPadres de familia solicitantes\nLugar:\n—
URL:https://ds.edu.sv/event/proceso-de-solicitudes-de-becas-sociales-31/
END:VEVENT
BEGIN:VEVENT
DTSTART;TZID=America/Guatemala:20260205T073500
DTEND;TZID=America/Guatemala:20260205T080000
DTSTAMP:20260420T134207
CREATED:20251126T030846Z
LAST-MODIFIED:20260205T101229Z
UID:10948-1770276900-1770278400@ds.edu.sv
SUMMARY:Inaguracion mañana deportiva SEK I+ SEKII
DESCRIPTION:
URL:https://ds.edu.sv/event/inaguracion-manana-deportiva-sek-i-sekii/
END:VEVENT
BEGIN:VEVENT
DTSTART;TZID=America/Guatemala:20260205T073500
DTEND;TZID=America/Guatemala:20260205T164500
DTSTAMP:20260420T134207
CREATED:20250801T024748Z
LAST-MODIFIED:20260205T101230Z
UID:8885-1770276900-1770309900@ds.edu.sv
SUMMARY:Salidas Pedagógicas Primaria
DESCRIPTION:Responsables:\nEncargados de grado\nParticipantes:\nAlumnos Primaria\nLugar:\nDestinos pedagógicos varios
URL:https://ds.edu.sv/event/salidas-pedagogicas-primaria/
END:VEVENT
BEGIN:VEVENT
DTSTART;TZID=America/Guatemala:20260205T080000
DTEND;TZID=America/Guatemala:20260205T150000
DTSTAMP:20260420T134207
CREATED:20260128T092733Z
LAST-MODIFIED:20260205T101230Z
UID:11129-1770278400-1770303600@ds.edu.sv
SUMMARY:Mañana deportiva SEK I + SEK II
DESCRIPTION:
URL:https://ds.edu.sv/event/manana-deportiva-sek-i-sek-ii/
END:VEVENT
BEGIN:VEVENT
DTSTART;TZID=America/Guatemala:20260205T151500
DTEND;TZID=America/Guatemala:20260205T164500
DTSTAMP:20260420T134207
CREATED:20250801T024748Z
LAST-MODIFIED:20260127T092737Z
UID:8887-1770304500-1770309900@ds.edu.sv
SUMMARY:Reunión de nivel SEK II
DESCRIPTION:Responsables:\nCoordinadora SEK II+GIB\nParticipantes:\nProfesores SEK II\nLugar:\nAula D.2.5
URL:https://ds.edu.sv/event/reunion-de-nivel-sek-ii-2/
END:VEVENT
BEGIN:VEVENT
DTSTART;VALUE=DATE:20260206
DTEND;VALUE=DATE:20260207
DTSTAMP:20260420T134207
CREATED:20250801T024747Z
LAST-MODIFIED:20260206T101201Z
UID:8883-1770336000-1770422399@ds.edu.sv
SUMMARY:Proceso de solicitudes de becas sociales
DESCRIPTION:Responsables:\nAdministración\nParticipantes:\nPadres de familia solicitantes\nLugar:\n—
URL:https://ds.edu.sv/event/proceso-de-solicitudes-de-becas-sociales-30/
END:VEVENT
BEGIN:VEVENT
DTSTART;VALUE=DATE:20260206
DTEND;VALUE=DATE:20260207
DTSTAMP:20260420T134207
CREATED:20250801T024747Z
LAST-MODIFIED:20260206T101201Z
UID:8882-1770336000-1770422399@ds.edu.sv
SUMMARY:Semana 21 (WA)
DESCRIPTION:
URL:https://ds.edu.sv/event/semana-21-wa-15/
END:VEVENT
BEGIN:VEVENT
DTSTART;TZID=America/Guatemala:20260206T073500
DTEND;TZID=America/Guatemala:20260206T090500
DTSTAMP:20260420T134207
CREATED:20250801T024748Z
LAST-MODIFIED:20260206T101201Z
UID:8886-1770363300-1770368700@ds.edu.sv
SUMMARY:Prueba Piloto HV/ LV 9ºgrado DSD I T1 2026 (KA 3)
DESCRIPTION:Responsables:\nCoordinador DaF\, Profesores de aleman\nParticipantes:\nAlumnos 9ºgrado ABC\nLugar:\nAulas
URL:https://ds.edu.sv/event/prueba-piloto-hv-lv-9ogrado-dsd-i-t1-2026-ka-3/
END:VEVENT
BEGIN:VEVENT
DTSTART;TZID=America/Guatemala:20260207T080000
DTEND;TZID=America/Guatemala:20260207T120000
DTSTAMP:20260420T134207
CREATED:20251025T232401Z
LAST-MODIFIED:20260207T101209Z
UID:10770-1770451200-1770465600@ds.edu.sv
SUMMARY:TOEFL II Bach curso de preparación grupo 1
DESCRIPTION:Responsables:\nCoordinadora de Inglés\nParticipantes:\nAlumnos II Bach ABC\nLugar:
URL:https://ds.edu.sv/event/toefl-ii-bach-curso-de-preparacion-grupo-1-4/
END:VEVENT
BEGIN:VEVENT
DTSTART;VALUE=DATE:20260209
DTEND;VALUE=DATE:20260210
DTSTAMP:20260420T134207
CREATED:20250801T024749Z
LAST-MODIFIED:20260209T102702Z
UID:8890-1770595200-1770681599@ds.edu.sv
SUMMARY:Semana 22 (WB)
DESCRIPTION:
URL:https://ds.edu.sv/event/semana-22-wb-13/
END:VEVENT
BEGIN:VEVENT
DTSTART;VALUE=DATE:20260209
DTEND;VALUE=DATE:20260210
DTSTAMP:20260420T134207
CREATED:20250801T024749Z
LAST-MODIFIED:20260209T102703Z
UID:8891-1770595200-1770681599@ds.edu.sv
SUMMARY:Proceso de solicitudes de becas sociales
DESCRIPTION:Responsables:\nAdministración\nParticipantes:\nPadres de familia solicitantes\nLugar:\n—
URL:https://ds.edu.sv/event/proceso-de-solicitudes-de-becas-sociales-32/
END:VEVENT
BEGIN:VEVENT
DTSTART;VALUE=DATE:20260209
DTEND;VALUE=DATE:20260210
DTSTAMP:20260420T134207
CREATED:20250825T053603Z
LAST-MODIFIED:20260209T102703Z
UID:10262-1770595200-1770681599@ds.edu.sv
SUMMARY:Semana de la lectura en Español
DESCRIPTION:
URL:https://ds.edu.sv/event/semana-de-la-lectura-en-espanol-2/
END:VEVENT
BEGIN:VEVENT
DTSTART;VALUE=DATE:20260209
DTEND;VALUE=DATE:20260210
DTSTAMP:20260420T134207
CREATED:20260113T081237Z
LAST-MODIFIED:20260209T102702Z
UID:11096-1770595200-1770681599@ds.edu.sv
SUMMARY:Workshop SL
DESCRIPTION:
URL:https://ds.edu.sv/event/workshop-sl-2/
END:VEVENT
BEGIN:VEVENT
DTSTART;TZID=America/Guatemala:20260209T073500
DTEND;TZID=America/Guatemala:20260209T150000
DTSTAMP:20260420T134207
CREATED:20250801T024742Z
LAST-MODIFIED:20260209T102703Z
UID:8866-1770622500-1770649200@ds.edu.sv
SUMMARY:AZUBI I Bach (Semana de pasantías) Alumnos no vienen a clases
DESCRIPTION:Responsables:\nOrientadora Vocacional\nParticipantes:\nAlumnos I Bach ABC\nLugar:\nDistintas Empresas\n Alumnos no vienen a clases
URL:https://ds.edu.sv/event/azubi-i-bach-semana-de-pasantias-alumnos-no-vienen-a-clases/
END:VEVENT
BEGIN:VEVENT
DTSTART;VALUE=DATE:20260210
DTEND;VALUE=DATE:20260211
DTSTAMP:20260420T134207
CREATED:20250801T024749Z
LAST-MODIFIED:20260210T104210Z
UID:8889-1770681600-1770767999@ds.edu.sv
SUMMARY:Semana 22 (WB)
DESCRIPTION:
URL:https://ds.edu.sv/event/semana-22-wb-12/
END:VEVENT
BEGIN:VEVENT
DTSTART;VALUE=DATE:20260210
DTEND;VALUE=DATE:20260211
DTSTAMP:20260420T134207
CREATED:20250801T024751Z
LAST-MODIFIED:20260210T104221Z
UID:8896-1770681600-1770767999@ds.edu.sv
SUMMARY:Proceso de solicitudes de becas sociales
DESCRIPTION:Responsables:\nAdministración\nParticipantes:\nPadres de familia solicitantes\nLugar:\n—
URL:https://ds.edu.sv/event/proceso-de-solicitudes-de-becas-sociales-35/
END:VEVENT
BEGIN:VEVENT
DTSTART;VALUE=DATE:20260210
DTEND;VALUE=DATE:20260211
DTSTAMP:20260420T134207
CREATED:20250825T053603Z
LAST-MODIFIED:20260210T104209Z
UID:10261-1770681600-1770767999@ds.edu.sv
SUMMARY:Semana de la lectura en Español
DESCRIPTION:
URL:https://ds.edu.sv/event/semana-de-la-lectura-en-espanol/
END:VEVENT
BEGIN:VEVENT
DTSTART;TZID=America/Guatemala:20260210T073500
DTEND;TZID=America/Guatemala:20260210T150000
DTSTAMP:20260420T134207
CREATED:20250827T055052Z
LAST-MODIFIED:20260210T104209Z
UID:10301-1770708900-1770735600@ds.edu.sv
SUMMARY:AZUBI I Bach (Semana de pasantías) Alumnos no vienen a clases
DESCRIPTION:Responsables:\nOrientadora Vocacional\nParticipantes:\nAlumnos I Bach ABC\nLugar:\nDistintas Empresas\n Alumnos no vienen a clases
URL:https://ds.edu.sv/event/azubi-i-bach-semana-de-pasantias-alumnos-no-vienen-a-clases-6/
END:VEVENT
BEGIN:VEVENT
DTSTART;TZID=America/Guatemala:20260210T151500
DTEND;TZID=America/Guatemala:20260210T164500
DTSTAMP:20260420T134207
CREATED:20250801T024750Z
LAST-MODIFIED:20260210T104209Z
UID:8892-1770736500-1770741900@ds.edu.sv
SUMMARY:Reunión de nivel Primaria
DESCRIPTION:Responsables:\nDirectora de Primaria\nParticipantes:\nProfesores Primaria\nLugar:\nTerraza Primaria
URL:https://ds.edu.sv/event/reunion-de-nivel-primaria-6/
END:VEVENT
BEGIN:VEVENT
DTSTART;VALUE=DATE:20260211
DTEND;VALUE=DATE:20260212
DTSTAMP:20260420T134207
CREATED:20250801T024750Z
LAST-MODIFIED:20260211T104209Z
UID:8894-1770768000-1770854399@ds.edu.sv
SUMMARY:Proceso de solicitudes de becas sociales
DESCRIPTION:Responsables:\nAdministración\nParticipantes:\nPadres de familia solicitantes\nLugar:\n—
URL:https://ds.edu.sv/event/proceso-de-solicitudes-de-becas-sociales-34/
END:VEVENT
BEGIN:VEVENT
DTSTART;VALUE=DATE:20260211
DTEND;VALUE=DATE:20260212
DTSTAMP:20260420T134207
CREATED:20250801T024750Z
LAST-MODIFIED:20260211T104208Z
UID:8895-1770768000-1770854399@ds.edu.sv
SUMMARY:Semana 22 (WB)
DESCRIPTION:
URL:https://ds.edu.sv/event/semana-22-wb-14/
END:VEVENT
END:VCALENDAR