BEGIN:VCALENDAR
VERSION:2.0
PRODID:-//Escuela Alemana - ECPv6.15.11//NONSGML v1.0//EN
CALSCALE:GREGORIAN
METHOD:PUBLISH
X-ORIGINAL-URL:https://ds.edu.sv
X-WR-CALDESC:Eventos para Escuela Alemana
REFRESH-INTERVAL;VALUE=DURATION:PT1H
X-Robots-Tag:noindex
X-PUBLISHED-TTL:PT1H
BEGIN:VTIMEZONE
TZID:America/Guatemala
BEGIN:STANDARD
TZOFFSETFROM:-0600
TZOFFSETTO:-0600
TZNAME:CST
DTSTART:20250101T000000
END:STANDARD
END:VTIMEZONE
BEGIN:VEVENT
DTSTART;VALUE=DATE:20260601
DTEND;VALUE=DATE:20260602
DTSTAMP:20260420T135231
CREATED:20250802T024956Z
LAST-MODIFIED:20260419T205724Z
UID:9208-1780272000-1780358399@ds.edu.sv
SUMMARY:Intercambio 9ºgrado ABC
DESCRIPTION:Responsables:\nOrientadora Vocacional\nParticipantes:\nAlumnos 9ºgrado ABC\nLugar:\nDistintos destinos en Alemania
URL:https://ds.edu.sv/event/intercambio-9ogrado-abc-74/
END:VEVENT
BEGIN:VEVENT
DTSTART;VALUE=DATE:20260601
DTEND;VALUE=DATE:20260602
DTSTAMP:20260420T135231
CREATED:20250804T031800Z
LAST-MODIFIED:20260419T205723Z
UID:9603-1780272000-1780358399@ds.edu.sv
SUMMARY:Semana 36 (WB)
DESCRIPTION:
URL:https://ds.edu.sv/event/semana-36-wb-19/
END:VEVENT
BEGIN:VEVENT
DTSTART;TZID=America/Guatemala:20260601T073000
DTEND;TZID=America/Guatemala:20260601T150000
DTSTAMP:20260420T135231
CREATED:20260226T114239Z
LAST-MODIFIED:20260419T205723Z
UID:11185-1780299000-1780326000@ds.edu.sv
SUMMARY:Prueba Piloto Examenes GIB II Bach ( Semana de examenes)
DESCRIPTION:Responsables:\nCoordinadora SEK II+GIB\nParticipantes:\nProfesores vigilantes y alumnos II Bach GIB\nLugar:\nAuditorio
URL:https://ds.edu.sv/event/prueba-piloto-examenes-gib-ii-bach-semana-de-examenes-7/
END:VEVENT
BEGIN:VEVENT
DTSTART;TZID=America/Guatemala:20260601T073500
DTEND;TZID=America/Guatemala:20260601T150000
DTSTAMP:20260420T135231
CREATED:20250804T031759Z
LAST-MODIFIED:20260225T113330Z
UID:9599-1780299300-1780326000@ds.edu.sv
SUMMARY:Prueba Piloto Examenes GIB II Bach (Semana de examenes)
DESCRIPTION:Responsables:\nCoordinadora SEK II+GIB\nParticipantes:\nProfesores vigilantes y alumnos II Bach GIB\nLugar:\nAuditorio
URL:https://ds.edu.sv/event/prueba-piloto-examenes-gib-ii-bach-semana-de-examenes-3/
END:VEVENT
BEGIN:VEVENT
DTSTART;VALUE=DATE:20260602
DTEND;VALUE=DATE:20260603
DTSTAMP:20260420T135231
CREATED:20250802T024956Z
LAST-MODIFIED:20260419T205724Z
UID:9207-1780358400-1780444799@ds.edu.sv
SUMMARY:Intercambio 9ºgrado ABC
DESCRIPTION:Responsables:\nOrientadora Vocacional\nParticipantes:\nAlumnos 9ºgrado ABC\nLugar:\nDistintos destinos en Alemania
URL:https://ds.edu.sv/event/intercambio-9ogrado-abc-73/
END:VEVENT
BEGIN:VEVENT
DTSTART;VALUE=DATE:20260602
DTEND;VALUE=DATE:20260603
DTSTAMP:20260420T135231
CREATED:20250804T031800Z
LAST-MODIFIED:20260419T205724Z
UID:9601-1780358400-1780444799@ds.edu.sv
SUMMARY:Semana 36 (WB)
DESCRIPTION:
URL:https://ds.edu.sv/event/semana-36-wb-17/
END:VEVENT
BEGIN:VEVENT
DTSTART;TZID=America/Guatemala:20260602T073000
DTEND;TZID=America/Guatemala:20260602T150000
DTSTAMP:20260420T135231
CREATED:20260226T114239Z
LAST-MODIFIED:20260419T205724Z
UID:11186-1780385400-1780412400@ds.edu.sv
SUMMARY:Prueba Piloto Examenes GIB II Bach ( Semana de examenes)
DESCRIPTION:Responsables:\nCoordinadora SEK II+GIB\nParticipantes:\nProfesores vigilantes y alumnos II Bach GIB\nLugar:\nAuditorio
URL:https://ds.edu.sv/event/prueba-piloto-examenes-gib-ii-bach-semana-de-examenes-8/
END:VEVENT
BEGIN:VEVENT
DTSTART;TZID=America/Guatemala:20260602T073500
DTEND;TZID=America/Guatemala:20260602T150000
DTSTAMP:20260420T135231
CREATED:20250804T031759Z
LAST-MODIFIED:20260225T113330Z
UID:9600-1780385700-1780412400@ds.edu.sv
SUMMARY:Prueba Piloto Examenes GIB II Bach (Semana de examenes)
DESCRIPTION:Responsables:\nCoordinadora SEK II+GIB\nParticipantes:\nProfesores vigilantes y alumnos II Bach GIB\nLugar:\nAuditorio
URL:https://ds.edu.sv/event/prueba-piloto-examenes-gib-ii-bach-semana-de-examenes-4/
END:VEVENT
BEGIN:VEVENT
DTSTART;VALUE=DATE:20260603
DTEND;VALUE=DATE:20260604
DTSTAMP:20260420T135231
CREATED:20250802T024958Z
LAST-MODIFIED:20260419T205724Z
UID:9213-1780444800-1780531199@ds.edu.sv
SUMMARY:Intercambio 9ºgrado ABC
DESCRIPTION:Responsables:\nOrientadora Vocacional\nParticipantes:\nAlumnos 9ºgrado ABC\nLugar:\nDistintos destinos en Alemania
URL:https://ds.edu.sv/event/intercambio-9ogrado-abc-76/
END:VEVENT
BEGIN:VEVENT
DTSTART;VALUE=DATE:20260603
DTEND;VALUE=DATE:20260604
DTSTAMP:20260420T135231
CREATED:20250804T031800Z
LAST-MODIFIED:20260419T205724Z
UID:9602-1780444800-1780531199@ds.edu.sv
SUMMARY:Semana 36 (WB)
DESCRIPTION:
URL:https://ds.edu.sv/event/semana-36-wb-18/
END:VEVENT
BEGIN:VEVENT
DTSTART;TZID=America/Guatemala:20260603T073000
DTEND;TZID=America/Guatemala:20260603T150000
DTSTAMP:20260420T135231
CREATED:20260226T114240Z
LAST-MODIFIED:20260419T205724Z
UID:11187-1780471800-1780498800@ds.edu.sv
SUMMARY:Prueba Piloto Examenes GIB II Bach ( Semana de examenes)
DESCRIPTION:Responsables:\nCoordinadora SEK II+GIB\nParticipantes:\nProfesores vigilantes y alumnos II Bach GIB\nLugar:\nAuditorio
URL:https://ds.edu.sv/event/prueba-piloto-examenes-gib-ii-bach-semana-de-examenes-9/
END:VEVENT
BEGIN:VEVENT
DTSTART;TZID=America/Guatemala:20260603T073500
DTEND;TZID=America/Guatemala:20260603T150000
DTSTAMP:20260420T135231
CREATED:20250804T031801Z
LAST-MODIFIED:20260225T113330Z
UID:9604-1780472100-1780498800@ds.edu.sv
SUMMARY:Prueba Piloto Examenes GIB II Bach (Semana de examenes)
DESCRIPTION:Responsables:\nCoordinadora SEK II+GIB\nParticipantes:\nProfesores vigilantes y alumnos II Bach GIB\nLugar:\nAuditorio
URL:https://ds.edu.sv/event/prueba-piloto-examenes-gib-ii-bach-semana-de-examenes-5/
END:VEVENT
BEGIN:VEVENT
DTSTART;VALUE=DATE:20260604
DTEND;VALUE=DATE:20260605
DTSTAMP:20260420T135231
CREATED:20250802T024957Z
LAST-MODIFIED:20260419T205724Z
UID:9212-1780531200-1780617599@ds.edu.sv
SUMMARY:Intercambio 9ºgrado ABC
DESCRIPTION:Responsables:\nOrientadora Vocacional\nParticipantes:\nAlumnos 9ºgrado ABC\nLugar:\nDistintos destinos en Alemania
URL:https://ds.edu.sv/event/intercambio-9ogrado-abc-75/
END:VEVENT
BEGIN:VEVENT
DTSTART;VALUE=DATE:20260604
DTEND;VALUE=DATE:20260605
DTSTAMP:20260420T135231
CREATED:20250804T031802Z
LAST-MODIFIED:20260419T205724Z
UID:9606-1780531200-1780617599@ds.edu.sv
SUMMARY:Semana 36 (WB)
DESCRIPTION:
URL:https://ds.edu.sv/event/semana-36-wb-20/
END:VEVENT
BEGIN:VEVENT
DTSTART;TZID=America/Guatemala:20260604T133000
DTEND;TZID=America/Guatemala:20260604T160000
DTSTAMP:20260420T135231
CREATED:20250804T031802Z
LAST-MODIFIED:20260419T205725Z
UID:9605-1780579800-1780588800@ds.edu.sv
SUMMARY:Último día de clubes
DESCRIPTION:
URL:https://ds.edu.sv/event/ultimo-dia-de-clubes-4/
END:VEVENT
BEGIN:VEVENT
DTSTART;VALUE=DATE:20260605
DTEND;VALUE=DATE:20260606
DTSTAMP:20260420T135231
CREATED:20250802T024958Z
LAST-MODIFIED:20260419T205725Z
UID:9214-1780617600-1780703999@ds.edu.sv
SUMMARY:Intercambio 9ºgrado ABC
DESCRIPTION:Responsables:\nOrientadora Vocacional\nParticipantes:\nAlumnos 9ºgrado ABC\nLugar:\nDistintos destinos en Alemania
URL:https://ds.edu.sv/event/intercambio-9ogrado-abc-77/
END:VEVENT
BEGIN:VEVENT
DTSTART;VALUE=DATE:20260605
DTEND;VALUE=DATE:20260606
DTSTAMP:20260420T135232
CREATED:20250804T031804Z
LAST-MODIFIED:20260419T205725Z
UID:9609-1780617600-1780703999@ds.edu.sv
SUMMARY:Semana 36 (WB)
DESCRIPTION:
URL:https://ds.edu.sv/event/semana-36-wb-21/
END:VEVENT
BEGIN:VEVENT
DTSTART;TZID=America/Guatemala:20260605T073500
DTEND;TZID=America/Guatemala:20260605T073500
DTSTAMP:20260420T135232
CREATED:20250804T031803Z
LAST-MODIFIED:20260419T205725Z
UID:9607-1780644900-1780644900@ds.edu.sv
SUMMARY:Todos los alumnos se retiran a las 12:45
DESCRIPTION:ALUMNOS SE RETIRAN A LAS 12:45 NO HAY CLASES POR LA TARDE
URL:https://ds.edu.sv/event/todos-los-alumnos-se-retiran-a-las-1245-4/
END:VEVENT
BEGIN:VEVENT
DTSTART;TZID=America/Guatemala:20260605T150000
DTEND;TZID=America/Guatemala:20260605T173000
DTSTAMP:20260420T135232
CREATED:20250804T031803Z
LAST-MODIFIED:20260419T205725Z
UID:9608-1780671600-1780680600@ds.edu.sv
SUMMARY:Acto de Graduación Prom 2026
DESCRIPTION:Responsables:\nDirector/ Administración/ Profesores encargados\nParticipantes:\nAlumnos III Bach\, Padres de familia e invitados\nLugar:\nAuditorio
URL:https://ds.edu.sv/event/acto-de-graduacion-prom-2026/
END:VEVENT
BEGIN:VEVENT
DTSTART;VALUE=DATE:20260606
DTEND;VALUE=DATE:20260607
DTSTAMP:20260420T135232
CREATED:20250802T024959Z
LAST-MODIFIED:20260419T205725Z
UID:9216-1780704000-1780790399@ds.edu.sv
SUMMARY:Intercambio 9ºgrado ABC
DESCRIPTION:Responsables:\nOrientadora Vocacional\nParticipantes:\nAlumnos 9ºgrado ABC\nLugar:\nDistintos destinos en Alemania
URL:https://ds.edu.sv/event/intercambio-9ogrado-abc-79/
END:VEVENT
BEGIN:VEVENT
DTSTART;VALUE=DATE:20260607
DTEND;VALUE=DATE:20260608
DTSTAMP:20260420T135232
CREATED:20250802T024958Z
LAST-MODIFIED:20260419T205726Z
UID:9215-1780790400-1780876799@ds.edu.sv
SUMMARY:Intercambio 9ºgrado ABC
DESCRIPTION:Responsables:\nOrientadora Vocacional\nParticipantes:\nAlumnos 9ºgrado ABC\nLugar:\nDistintos destinos en Alemania
URL:https://ds.edu.sv/event/intercambio-9ogrado-abc-78/
END:VEVENT
BEGIN:VEVENT
DTSTART;VALUE=DATE:20260607
DTEND;VALUE=DATE:20260608
DTSTAMP:20260420T135232
CREATED:20260413T204235Z
LAST-MODIFIED:20260419T205725Z
UID:11724-1780790400-1780876799@ds.edu.sv
SUMMARY:Último día de ingreso de notas al sistema para todos los niveles
DESCRIPTION:
URL:https://ds.edu.sv/event/ultimo-dia-de-ingreso-de-notas-al-sistema-para-todos-los-niveles/
END:VEVENT
BEGIN:VEVENT
DTSTART;VALUE=DATE:20260608
DTEND;VALUE=DATE:20260609
DTSTAMP:20260420T135232
CREATED:20250802T025003Z
LAST-MODIFIED:20260419T205725Z
UID:9227-1780876800-1780963199@ds.edu.sv
SUMMARY:Intercambio 9ºgrado ABC
DESCRIPTION:Responsables:\nOrientadora Vocacional\nParticipantes:\nAlumnos 9ºgrado ABC\nLugar:\nDistintos destinos en Alemania
URL:https://ds.edu.sv/event/intercambio-9ogrado-abc-87/
END:VEVENT
BEGIN:VEVENT
DTSTART;VALUE=DATE:20260608
DTEND;VALUE=DATE:20260609
DTSTAMP:20260420T135232
CREATED:20250804T031804Z
LAST-MODIFIED:20260419T205726Z
UID:9610-1780876800-1780963199@ds.edu.sv
SUMMARY:Semana 37 (WA)
DESCRIPTION:
URL:https://ds.edu.sv/event/semana-37-wa-18/
END:VEVENT
BEGIN:VEVENT
DTSTART;VALUE=DATE:20260609
DTEND;VALUE=DATE:20260610
DTSTAMP:20260420T135232
CREATED:20250802T025003Z
LAST-MODIFIED:20260419T205726Z
UID:9226-1780963200-1781049599@ds.edu.sv
SUMMARY:Intercambio 9ºgrado ABC
DESCRIPTION:Responsables:\nOrientadora Vocacional\nParticipantes:\nAlumnos 9ºgrado ABC\nLugar:\nDistintos destinos en Alemania
URL:https://ds.edu.sv/event/intercambio-9ogrado-abc-86/
END:VEVENT
BEGIN:VEVENT
DTSTART;VALUE=DATE:20260609
DTEND;VALUE=DATE:20260610
DTSTAMP:20260420T135232
CREATED:20250804T031806Z
LAST-MODIFIED:20260419T205727Z
UID:9616-1780963200-1781049599@ds.edu.sv
SUMMARY:Semana 37 (WA)
DESCRIPTION:
URL:https://ds.edu.sv/event/semana-37-wa-21/
END:VEVENT
BEGIN:VEVENT
DTSTART;TZID=America/Guatemala:20260609T133000
DTEND;TZID=America/Guatemala:20260609T150000
DTSTAMP:20260420T135232
CREATED:20250804T031805Z
LAST-MODIFIED:20260419T205726Z
UID:9611-1781011800-1781017200@ds.edu.sv
SUMMARY:Día de examenes de recuperación para alumnos que se retiran de la Escuela
DESCRIPTION:Responsables:\nDirectora Nacional\nParticipantes:\nAlumnos que se retiran de la Escuela\nLugar:\nSalon de clases
URL:https://ds.edu.sv/event/dia-de-examenes-de-recuperacion-para-alumnos-que-se-retiran-de-la-escuela/
END:VEVENT
BEGIN:VEVENT
DTSTART;TZID=America/Guatemala:20260609T151500
DTEND;TZID=America/Guatemala:20260609T164500
DTSTAMP:20260420T135232
CREATED:20250804T031805Z
LAST-MODIFIED:20260419T205726Z
UID:9612-1781018100-1781023500@ds.edu.sv
SUMMARY:Claustro de notas Primaria
DESCRIPTION:Responsables:\nDirectora de Primaria\nParticipantes:\nProfesores de Primaria\nLugar:\nSalita de reuniones A.2.16
URL:https://ds.edu.sv/event/claustro-de-notas-primaria-7/
END:VEVENT
BEGIN:VEVENT
DTSTART;TZID=America/Guatemala:20260609T151500
DTEND;TZID=America/Guatemala:20260609T164500
DTSTAMP:20260420T135232
CREATED:20250804T031806Z
LAST-MODIFIED:20260419T205726Z
UID:9617-1781018100-1781023500@ds.edu.sv
SUMMARY:Claustro de notas SEK I
DESCRIPTION:Responsables:\nCoordinadora SEK I\nParticipantes:\nProfesores SEK I\nLugar:\nAula D.2.1
URL:https://ds.edu.sv/event/claustro-de-notas-sek-i-7/
END:VEVENT
BEGIN:VEVENT
DTSTART;TZID=America/Guatemala:20260609T180000
DTEND;TZID=America/Guatemala:20260609T235500
DTSTAMP:20260420T135232
CREATED:20250804T031754Z
LAST-MODIFIED:20260419T205726Z
UID:9584-1781028000-1781049300@ds.edu.sv
SUMMARY:Noche de lectura 4ºgrado
DESCRIPTION:Responsables:\nProfesores español 4ºgrado\nParticipantes:\nAlumnos 4ºgrado\nLugar:\nAuditorio\nALUMNOS DUERMEN EN LA ESCUELA.\nEL EVENTO TERMINA 23.05 A LAS 07:00 AM
URL:https://ds.edu.sv/event/noche-de-lectura-4ogrado-2/
END:VEVENT
END:VCALENDAR